BEGIN:VCALENDAR
VERSION:2.0
PRODID:-//Richard Emanuele Franetzki - schamanisches Coaching - ECPv6.15.20//NONSGML v1.0//EN
CALSCALE:GREGORIAN
METHOD:PUBLISH
X-ORIGINAL-URL:https://schamanisches-coaching.eu
X-WR-CALDESC:Veranstaltungen für Richard Emanuele Franetzki - schamanisches Coaching
REFRESH-INTERVAL;VALUE=DURATION:PT1H
X-Robots-Tag:noindex
X-PUBLISHED-TTL:PT1H
BEGIN:VTIMEZONE
TZID:UTC
BEGIN:STANDARD
TZOFFSETFROM:+0000
TZOFFSETTO:+0000
TZNAME:UTC
DTSTART:20240101T000000
END:STANDARD
END:VTIMEZONE
BEGIN:VEVENT
DTSTART;TZID=UTC:20260314T150000
DTEND;TZID=UTC:20260314T180000
DTSTAMP:20260423T111251
CREATED:20251229T152539Z
LAST-MODIFIED:20251229T152702Z
UID:10000007-1773500400-1773511200@schamanisches-coaching.eu
SUMMARY:Nachmittagsworkshop: Feed your faith – Kraft\, Lebensfreude & Motivation tanken mit der schamanischen Trommel
DESCRIPTION:Wir werden uns an diesem Nachmittag mit Hilfe der Trommel reinigen und stärken. \nAußerdem werden wir:\n– Meditationen in unseren Herzraum durchführen\n– uns austauschen und in der Gemeinschaft von Gleichgesinnten wertvolle Impulse geben\n– Jeder Teilnehmer wird von Richard eine persönliche Botschaft aus der geistigen Welt zu seinem Lebensweg bekommen.\n– Außerdem werden wir den Botschaften des Kristallschädels AMRAM lauschen. \nWorkshop von 15-18 Uhr. 35\,- €\nin der AMRAM-Praxis\, Darmstädter Str. 79 in Bensheim\nDer Workshop ist begrenzt auf maximal 10 Personen
URL:https://schamanisches-coaching.eu/event/nachmittagsworkshop-feed-your-faith-kraft-lebensfreude-motivation-tanken-mit-der-schamanischen-trommel-3/
ATTACH;FMTTYPE=image/png:https://schamanisches-coaching.eu/wp-content/uploads/2025/12/maerz16.png
END:VEVENT
BEGIN:VEVENT
DTSTART;TZID=UTC:20260118T170000
DTEND;TZID=UTC:20260118T190000
DTSTAMP:20260423T111251
CREATED:20251228T135415Z
LAST-MODIFIED:20251229T150613Z
UID:10000004-1768755600-1768762800@schamanisches-coaching.eu
SUMMARY:Agnihotra & Trommelmeditation zum Neumond
DESCRIPTION:Der große Zuspruch an den Abenden an  denen wir das Agnihotraritual zelebrieren und danach  in die Trommelmedition versinken\, hat uns bewogen\, dies einmal im Monat in unserem Hause anzubieten.\nAls krönenden Abschluss erhält jeder noch eine persönliche Botschaft aus der geistigen Welt. \nAgnihotra\neine reinigende und heilende Feuer-Zeremonie von großer Reichweite und ein unschätzbares Mittel zur Heilung von Erde\, Mensch und Sphären.\nEin uraltes Ritual mit einer gigantischer Wirkung auf Pflanzen\, Tiere und Menschen\, Gewässer\, Luft und Äther. \nFür das Ritual nutzt man die heilsamen Energien des Bio-Rhythmus der auf- bzw. untergehenden Sonne. Diese paar Minuten sind die energetisch stärksten Zeiten des Tages.\nDie Form der Schale ( umgedrehte Pyramide) und das Material (Kupfer) wirken beim Verbrennen der erforderlichen Bestandteile wie ein Generator für negative Ionen\, der alles in der Äthersphäre (im Feinstofflichen) umwandelt\, klärt und harmonisiert\, und das allem Lebendigem zugute kommt. Durch bestimmte Mantras werden diese Kräfte immens verstärkt. \nWir freuen uns auf euch!\nBeginn: 17 Uhr \nAchtung\, aufgrund der auf 20 begrenzten Teilnehmerzahl\, bitte unbedingt auf der Seite von AMRAM-Bewusst-Sein registrieren!\nAgnihotra & Trommelmeditation zum Neumond – AMRAM – BEWUSST-SEIN \nDer Energieusgleich erfolgt auf Spendenbasis!
URL:https://schamanisches-coaching.eu/event/agnihotra-trommelmeditation-zum-neumond/
LOCATION:Gudrun Ferenz\, Lindenstrasse 6\, Roßdorf\, 64386
ATTACH;FMTTYPE=image/jpeg:https://schamanisches-coaching.eu/wp-content/uploads/2025/11/image018.jpg
END:VEVENT
BEGIN:VEVENT
DTSTART;TZID=UTC:20260110T150000
DTEND;TZID=UTC:20260110T180000
DTSTAMP:20260423T111251
CREATED:20251229T152047Z
LAST-MODIFIED:20251229T152846Z
UID:10000005-1768057200-1768068000@schamanisches-coaching.eu
SUMMARY:Nachmittagsworkshop: Feed your faith – Kraft\, Lebensfreude & Motivation tanken mit der schamanischen Trommel
DESCRIPTION:Wir werden uns an diesem Nachmittag mit Hilfe der Trommel reinigen und stärken. \nAußerdem werden wir:\n– Meditationen in unseren Herzraum durchführen\n– uns austauschen und in der Gemeinschaft von Gleichgesinnten wertvolle Impulse geben\n– Jeder Teilnehmer wird von Richard eine persönliche Botschaft aus der geistigen Welt zu seinem Lebensweg bekommen.\n– Außerdem werden wir den Botschaften des Kristallschädels AMRAM lauschen. \nWorkshop von 15-18 Uhr. 35\,- €\nin der AMRAM-Praxis\, Darmstädter Str. 79 in Bensheim\nDer Workshop ist begrenzt auf maximal 10 Personen
URL:https://schamanisches-coaching.eu/event/nachmittagsworkshop-feed-your-faith-kraft-lebensfreude-motivation-tanken-mit-der-schamanischen-trommel-2/
ATTACH;FMTTYPE=image/png:https://schamanisches-coaching.eu/wp-content/uploads/2025/12/faithjan25.png
END:VEVENT
BEGIN:VEVENT
DTSTART;TZID=UTC:20251228T170000
DTEND;TZID=UTC:20251228T190000
DTSTAMP:20260423T111251
CREATED:20251209T095657Z
LAST-MODIFIED:20251209T095657Z
UID:10000003-1766941200-1766948400@schamanisches-coaching.eu
SUMMARY:Agnihotra & Trommelmeditation zum Jahresabschluss
DESCRIPTION:Der große Zuspruch an den Abenden an  denen wir das Agnihotraritual zelebrieren und danach  in die Trommelmedition versinken\, hat uns bewogen\, dies einmal im Monat in unserem Hause anzubieten.\nAls krönenden Abschluss erhält jeder noch eine persönliche Botschaft aus der geistigen Welt. \nAgnihotra\neine reinigende und heilende Feuer-Zeremonie von großer Reichweite und ein unschätzbares Mittel zur Heilung von Erde\, Mensch und Sphären.\nEin uraltes Ritual mit einer gigantischer Wirkung auf Pflanzen\, Tiere und Menschen\, Gewässer\, Luft und Äther. \nFür das Ritual nutzt man die heilsamen Energien des Bio-Rhythmus der auf- bzw. untergehenden Sonne. Diese paar Minuten sind die energetisch stärksten Zeiten des Tages.\nDie Form der Schale ( umgedrehte Pyramide) und das Material (Kupfer) wirken beim Verbrennen der erforderlichen Bestandteile wie ein Generator für negative Ionen\, der alles in der Äthersphäre (im Feinstofflichen) umwandelt\, klärt und harmonisiert\, und das allem Lebendigem zugute kommt. Durch bestimmte Mantras werden diese Kräfte immens verstärkt. \nWir freuen uns auf euch!\nBeginn: 17 Uhr \nAchtung\, aufgrund der auf 20 begrenzten Teilnehmerzahl\, bitte unbedingt auf dieser Seite registrieren!\nDer Energieusgleich ist auf Spendenbasis!
URL:https://schamanisches-coaching.eu/event/agnihotra-trommelmeditation-zum-jahresabschluss/
LOCATION:Gudrun Ferenz\, Lindenstrasse 6\, Roßdorf\, 64386
ATTACH;FMTTYPE=image/jpeg:https://schamanisches-coaching.eu/wp-content/uploads/2025/11/image018.jpg
END:VEVENT
BEGIN:VEVENT
DTSTART;TZID=UTC:20251227T150000
DTEND;TZID=UTC:20251227T180000
DTSTAMP:20260423T111251
CREATED:20251124T164100Z
LAST-MODIFIED:20251124T164100Z
UID:10000001-1766847600-1766858400@schamanisches-coaching.eu
SUMMARY:Nachmittagsworkshop: Feed your faith – Kraft\, Lebensfreude & Motivation tanken mit der schamanischen Trommel
DESCRIPTION:Wir werden uns an diesem Nachmittag mit Hilfe der Trommel reinigen und stärken. \nAußerdem werden wir:\n– Meditationen in unseren Herzraum durchführen\n– uns austauschen und in der Gemeinschaft von Gleichgesinnten wertvolle Impulse geben\n– Jeder Teilnehmer wird von Richard eine persönliche Botschaft aus der geistigen Welt zu seinem Lebensweg bekommen.\n– Außerdem werden wir den Botschaften des Kristallschädels AMRAM lauschen. \nWorkshop von 15-18 Uhr. 35\,- €\nin der AMRAM-Praxis\, Darmstädter Str. 79 in Bensheim\nDer Workshop ist begrenzt auf maximal 10 Personen
URL:https://schamanisches-coaching.eu/event/nachmittagsworkshop-feed-your-faith-kraft-lebensfreude-motivation-tanken-mit-der-schamanischen-trommel/
ATTACH;FMTTYPE=image/png:https://schamanisches-coaching.eu/wp-content/uploads/2025/11/dez25.png
END:VEVENT
BEGIN:VEVENT
DTSTART;TZID=UTC:20251220T170000
DTEND;TZID=UTC:20251220T190000
DTSTAMP:20260423T111251
CREATED:20251124T171450Z
LAST-MODIFIED:20251202T160227Z
UID:10000002-1766250000-1766257200@schamanisches-coaching.eu
SUMMARY:Agnihotra & Trommelmeditation zur Wintersonnenwende
DESCRIPTION:Der große Zuspruch an den Abenden an  denen wir das Agnihotraritual zelebrieren und danach  in die Trommelmedition versinken\, hat uns bewogen\, dies einmal im Monat in unserem Hause anzubieten.\nAls krönenden Abschluss erhält jeder noch eine persönliche Botschaft aus der geistigen Welt. \nAgnihotra\neine reinigende und heilende Feuer-Zeremonie von großer Reichweite und ein unschätzbares Mittel zur Heilung von Erde\, Mensch und Sphären.\nEin uraltes Ritual mit einer gigantischer Wirkung auf Pflanzen\, Tiere und Menschen\, Gewässer\, Luft und Äther. \nFür das Ritual nutzt man die heilsamen Energien des Bio-Rhythmus der auf- bzw. untergehenden Sonne. Diese paar Minuten sind die energetisch stärksten Zeiten des Tages.\nDie Form der Schale ( umgedrehte Pyramide) und das Material (Kupfer) wirken beim Verbrennen der erforderlichen Bestandteile wie ein Generator für negative Ionen\, der alles in der Äthersphäre (im Feinstofflichen) umwandelt\, klärt und harmonisiert\, und das allem Lebendigem zugute kommt. Durch bestimmte Mantras werden diese Kräfte immens verstärkt. \nWir freuen uns auf euch!\nBeginn: 17 Uhr \nAchtung\, aufgrund der auf 20 begrenzten Teilnehmerzahl\, bitte unbedingt auf dieser Seite registrieren!\nDer Energieusgleich ist auf Spendenbasis!
URL:https://schamanisches-coaching.eu/event/agnihotra-trommelmeditation-zur-wintersonnenwende/
LOCATION:Gudrun Ferenz\, Lindenstrasse 6\, Roßdorf\, 64386
ATTACH;FMTTYPE=image/jpeg:https://schamanisches-coaching.eu/wp-content/uploads/2025/11/image018.jpg
END:VEVENT
END:VCALENDAR