BEGIN:VCALENDAR
VERSION:2.0
PRODID:-//Richard Emanuele Franetzki - schamanisches Coaching - ECPv6.15.20//NONSGML v1.0//EN
CALSCALE:GREGORIAN
METHOD:PUBLISH
X-ORIGINAL-URL:https://schamanisches-coaching.eu
X-WR-CALDESC:Veranstaltungen für Richard Emanuele Franetzki - schamanisches Coaching
REFRESH-INTERVAL;VALUE=DURATION:PT1H
X-Robots-Tag:noindex
X-PUBLISHED-TTL:PT1H
BEGIN:VTIMEZONE
TZID:Europe/Berlin
BEGIN:DAYLIGHT
TZOFFSETFROM:+0100
TZOFFSETTO:+0200
TZNAME:CEST
DTSTART:20250330T010000
END:DAYLIGHT
BEGIN:STANDARD
TZOFFSETFROM:+0200
TZOFFSETTO:+0100
TZNAME:CET
DTSTART:20251026T010000
END:STANDARD
BEGIN:DAYLIGHT
TZOFFSETFROM:+0100
TZOFFSETTO:+0200
TZNAME:CEST
DTSTART:20260329T010000
END:DAYLIGHT
BEGIN:STANDARD
TZOFFSETFROM:+0200
TZOFFSETTO:+0100
TZNAME:CET
DTSTART:20261025T010000
END:STANDARD
BEGIN:DAYLIGHT
TZOFFSETFROM:+0100
TZOFFSETTO:+0200
TZNAME:CEST
DTSTART:20270328T010000
END:DAYLIGHT
BEGIN:STANDARD
TZOFFSETFROM:+0200
TZOFFSETTO:+0100
TZNAME:CET
DTSTART:20271031T010000
END:STANDARD
END:VTIMEZONE
BEGIN:VEVENT
DTSTART;TZID=Europe/Berlin:20260426T150000
DTEND;TZID=Europe/Berlin:20260426T180000
DTSTAMP:20260423T102828
CREATED:20260320T193101Z
LAST-MODIFIED:20260411T101402Z
UID:10000016-1777215600-1777226400@schamanisches-coaching.eu
SUMMARY:Nachmittagsworkshop: Feed your faith – Kraft\, Lebensfreude & Motivation tanken mit der schamanischen Trommel
DESCRIPTION:Wir werden uns an diesem Nachmittag mit Hilfe der Trommel reinigen und stärken. \nAußerdem werden wir:\n– Meditationen in unseren Herzraum durchführen\n– uns austauschen und in der Gemeinschaft von Gleichgesinnten wertvolle Impulse geben\n– Jeder Teilnehmer wird von Richard eine persönliche Botschaft aus der geistigen Welt zu seinem Lebensweg bekommen.\n– Außerdem werden wir den Botschaften des Kristallschädels AMRAM lauschen. \nWorkshop von 15-18 Uhr. 35\,- €\nin der AMRAM-Praxis\, Darmstädter Str. 79 in Bensheim\nDer Workshop ist begrenzt auf maximal 10 Personen
URL:https://schamanisches-coaching.eu/event/nachmittagsworkshop-feed-your-faith-kraft-lebensfreude-motivation-tanken-mit-der-schamanischen-trommel-april/
ATTACH;FMTTYPE=image/jpeg:https://schamanisches-coaching.eu/wp-content/uploads/2025/11/IMG-20251118-WA0008.jpg
END:VEVENT
BEGIN:VEVENT
DTSTART;TZID=Europe/Berlin:20260430T193000
DTEND;TZID=Europe/Berlin:20260430T213000
DTSTAMP:20260423T102828
CREATED:20260413T173109Z
LAST-MODIFIED:20260414T075809Z
UID:10000017-1777577400-1777584600@schamanisches-coaching.eu
SUMMARY:Agnihotra & Trommelmeditation
DESCRIPTION:Der große Zuspruch an den Abenden an  denen wir das Agnihotraritual zelebrieren und danach  in die Trommelmedition versinken\, hat uns bewogen\, dies einmal im Monat in unserem Hause anzubieten.\nAls krönenden Abschluss erhält jeder noch eine persönliche Botschaft aus der geistigen Welt. \nAgnihotra\neine reinigende und heilende Feuer-Zeremonie von großer Reichweite und ein unschätzbares Mittel zur Heilung von Erde\, Mensch und Sphären.\nEin uraltes Ritual mit einer gigantischer Wirkung auf Pflanzen\, Tiere und Menschen\, Gewässer\, Luft und Äther. \nFür das Ritual nutzt man die heilsamen Energien des Bio-Rhythmus der auf- bzw. untergehenden Sonne. Diese paar Minuten sind die energetisch stärksten Zeiten des Tages.\nDie Form der Schale ( umgedrehte Pyramide) und das Material (Kupfer) wirken beim Verbrennen der erforderlichen Bestandteile wie ein Generator für negative Ionen\, der alles in der Äthersphäre (im Feinstofflichen) umwandelt\, klärt und harmonisiert\, und das allem Lebendigem zugute kommt. Durch bestimmte Mantras werden diese Kräfte immens verstärkt. \nWir freuen uns auf euch!\nBeginn: 19:30 Uhr \nBitte unbedingt auf dieser Seite registrieren!\nDer Energieausgleich beträgt 20\,- €!
URL:https://schamanisches-coaching.eu/event/agnihotra-trommelmeditation/
LOCATION:Gudrun Ferenz\, Lindenstrasse 6\, Roßdorf\, 64386
ATTACH;FMTTYPE=image/jpeg:https://schamanisches-coaching.eu/wp-content/uploads/2025/11/image018.jpg
END:VEVENT
END:VCALENDAR